BEGIN:VCALENDAR
VERSION:2.0
PRODID:-//Groupe Scolaire Gustave Eiffel - ECPv5.12.2//NONSGML v1.0//EN
CALSCALE:GREGORIAN
METHOD:PUBLISH
X-WR-CALNAME:Groupe Scolaire Gustave Eiffel
X-ORIGINAL-URL:https://gsgustaveeiffel.com
X-WR-CALDESC:évènements pour Groupe Scolaire Gustave Eiffel
REFRESH-INTERVAL;VALUE=DURATION:PT1H
X-Robots-Tag:noindex
X-PUBLISHED-TTL:PT1H
BEGIN:VTIMEZONE
TZID:Europe/Paris
BEGIN:DAYLIGHT
TZOFFSETFROM:+0100
TZOFFSETTO:+0200
TZNAME:CEST
DTSTART:20250330T010000
END:DAYLIGHT
BEGIN:STANDARD
TZOFFSETFROM:+0200
TZOFFSETTO:+0100
TZNAME:CET
DTSTART:20251026T010000
END:STANDARD
END:VTIMEZONE
BEGIN:VEVENT
DTSTART;VALUE=DATE:20250214
DTEND;VALUE=DATE:20250215
DTSTAMP:20260419T200036
CREATED:20250325T093644Z
LAST-MODIFIED:20250325T093644Z
UID:10180-1739491200-1739577599@gsgustaveeiffel.com
SUMMARY:Journée de la Saint-Valentin
DESCRIPTION:Le CVC et le CVL organisent une journée spéciale Saint-Valentin afin de récolter des fonds pour financer leur projet de fin d’année. À cette occasion\, plusieurs actions seront mises en place: \n\nVente de roses (qui seront distribuées ultérieurement avec un petit mot)\, pâtisseries et boissons tout au long de la journée.\nConcours de la plus belle lettre d’amour\, avec des contraintes d’écriture spécifiques. (les contraintes seront communiquées plus tard)\n\nNous remercions particulièrement les professeurs de français de bien vouloir expliquer à leurs élèves ce qu’est une contrainte d’écriture\, afin de les guider dans la rédaction de leur lettre pour le concours. Nous comptons sur votre soutien pour faire de cet événement une réussite ! \nMerci pour votre aide et votre engagement. \nLe CVC/CVL et la CPE
URL:https://gsgustaveeiffel.com/event/journee-de-la-saint-valentin/
ATTACH;FMTTYPE=image/jpeg:https://gsgustaveeiffel.com/wp-content/uploads/2025/03/Saint-Valentin-2025-2-scaled.jpg
ORGANIZER;CN="Groupe%20Scolaire%20Gustave%20Eiffel":MAILTO:contact@gsgustaveeiffel.com
END:VEVENT
BEGIN:VEVENT
DTSTART;TZID=Europe/Paris:20250217T080000
DTEND;TZID=Europe/Paris:20250221T170000
DTSTAMP:20260419T200036
CREATED:20250325T093957Z
LAST-MODIFIED:20250325T094355Z
UID:10183-1739779200-1740157200@gsgustaveeiffel.com
SUMMARY:Semaine de sensibilisation “Non au harcèlement”
DESCRIPTION:Dans le cadre du programme pHARe (prévention du harcèlement à l’école)\, l’équipe de pilotage organise une semaine de sensibilisation « Non au harcèlement ». Diverses activités seront proposées aux élèves afin de les informer\, les sensibiliser et encourager l’échange sur cette thématique essentielle. \nNous comptons sur votre soutien et votre engagement pour accompagner les élèves et les encourager à participer activement à cette semaine de sensibilisation. \nL’équipe de pilotage du programme pHARe (Mme Chaibi\, Mme Mejri et Mme Sirguy)
URL:https://gsgustaveeiffel.com/event/semaine-de-sensibilisation-non-au-harcelement/
ATTACH;FMTTYPE=image/jpeg:https://gsgustaveeiffel.com/wp-content/uploads/2025/03/STOP_Harcelement-GSGE_AEFE_Phare_2.jpg
END:VEVENT
END:VCALENDAR