BEGIN:VCALENDAR
VERSION:2.0
PRODID:-//Groupe Scolaire Gustave Eiffel - ECPv5.12.2//NONSGML v1.0//EN
CALSCALE:GREGORIAN
METHOD:PUBLISH
X-WR-CALNAME:Groupe Scolaire Gustave Eiffel
X-ORIGINAL-URL:https://gsgustaveeiffel.com
X-WR-CALDESC:évènements pour Groupe Scolaire Gustave Eiffel
REFRESH-INTERVAL;VALUE=DURATION:PT1H
X-Robots-Tag:noindex
X-PUBLISHED-TTL:PT1H
BEGIN:VTIMEZONE
TZID:Europe/Paris
BEGIN:DAYLIGHT
TZOFFSETFROM:+0100
TZOFFSETTO:+0200
TZNAME:CEST
DTSTART:20240331T010000
END:DAYLIGHT
BEGIN:STANDARD
TZOFFSETFROM:+0200
TZOFFSETTO:+0100
TZNAME:CET
DTSTART:20241027T010000
END:STANDARD
END:VTIMEZONE
BEGIN:VEVENT
DTSTART;VALUE=DATE:20240214
DTEND;VALUE=DATE:20240215
DTSTAMP:20260420T124257
CREATED:20240210T091631Z
LAST-MODIFIED:20240219T091835Z
UID:9392-1707868800-1707955199@gsgustaveeiffel.com
SUMMARY:Saint Valentin
DESCRIPTION:Le conseil de vie collégienne et lycéenne célèbre l’Amour et l’Amitié ce Mercredi 14 février 2024\, jour de la Saint Valentin \nParce que les petites attentions font toujours plaisir\, les élèves pourront acheter des roses et/ou faire livrer leurs petits mots doux à la personne de leur choix. \nCulture générale: Saviez-vous que le 14 février a été déclaré jour de la Saint-Valentin par le pape Gélase Ier\, le troisième et dernier évêque de Rome d’origine berbère. Il serait venu de la province romaine de l’Afrique (Ifriqiya)\, aujourd’hui connue sous le nom de Tunisie!   \nVIVE L’AMOUR
URL:https://gsgustaveeiffel.com/event/saint-valentin/
LOCATION:Groupe scolaire Gustave Eiffel\, Avenue Ain Mariem.\, Bizerte\, 7000\, Tunisie
ATTACH;FMTTYPE=image/jpeg:https://gsgustaveeiffel.com/wp-content/uploads/2024/02/Saint-Valentin-GSGE-Bizerte-AEFE.jpg
END:VEVENT
BEGIN:VEVENT
DTSTART;VALUE=DATE:20240218
DTEND;VALUE=DATE:20240219
DTSTAMP:20260420T124257
CREATED:20240215T091107Z
LAST-MODIFIED:20240219T091539Z
UID:9388-1708214400-1708300799@gsgustaveeiffel.com
SUMMARY:Nettoyage et reboisement de la forêt du Nadhor
DESCRIPTION:Gustaviens\, Gustaviennes\, Bizertins\, Bizertines \n\n\nVenez nombreux nous aider au nettoyage et reboisement de la forêt du Nadhor. Les éco-délégués du Groupe Scolaire Gustave Eiffel se mobilisent pour la propreté de leur environnement.
URL:https://gsgustaveeiffel.com/event/nettoyage-et-reboisement-de-la-foret-du-nadhor/
LOCATION:Forêt du Nadhor\, Bizerte\, Tunisie
ATTACH;FMTTYPE=image/jpeg:https://gsgustaveeiffel.com/wp-content/uploads/2024/02/nettoyage-et-reboisement-de-la-foret-du-Nadhor-GSGE-Bizerte-AEFE.jpg
END:VEVENT
BEGIN:VEVENT
DTSTART;TZID=Europe/Paris:20240223T183000
DTEND;TZID=Europe/Paris:20240223T193000
DTSTAMP:20260420T124257
CREATED:20240218T092633Z
LAST-MODIFIED:20240322T131942Z
UID:9614-1708713000-1708716600@gsgustaveeiffel.com
SUMMARY:Cérémonie de remise du Diplôme National du Brevet (DNB Session 2023)
DESCRIPTION:
URL:https://gsgustaveeiffel.com/event/ceremonie-de-remise-du-diplome-national-du-brevet-dnb-session-2023/
LOCATION:Groupe scolaire Gustave Eiffel\, Avenue Ain Mariem.\, Bizerte\, 7000\, Tunisie
ATTACH;FMTTYPE=image/jpeg:https://gsgustaveeiffel.com/wp-content/uploads/2024/03/DNB-Session2023-Remise_des_diplomes-GSGE-AEFE-scaled.jpg
ORGANIZER;CN="Groupe%20Scolaire%20Gustave%20Eiffel":MAILTO:contact@gsgustaveeiffel.com
END:VEVENT
END:VCALENDAR