BEGIN:VCALENDAR
VERSION:2.0
PRODID:-//Groupe Scolaire Gustave Eiffel - ECPv5.12.2//NONSGML v1.0//EN
CALSCALE:GREGORIAN
METHOD:PUBLISH
X-WR-CALNAME:Groupe Scolaire Gustave Eiffel
X-ORIGINAL-URL:https://gsgustaveeiffel.com
X-WR-CALDESC:évènements pour Groupe Scolaire Gustave Eiffel
REFRESH-INTERVAL;VALUE=DURATION:PT1H
X-Robots-Tag:noindex
X-PUBLISHED-TTL:PT1H
BEGIN:VTIMEZONE
TZID:UTC
BEGIN:STANDARD
TZOFFSETFROM:+0000
TZOFFSETTO:+0000
TZNAME:UTC
DTSTART:20210101T000000
END:STANDARD
END:VTIMEZONE
BEGIN:VEVENT
DTSTART;VALUE=DATE:20211114
DTEND;VALUE=DATE:20211115
DTSTAMP:20260422T032032
CREATED:20210917T132604Z
LAST-MODIFIED:20210917T132604Z
UID:7334-1636848000-1636934399@gsgustaveeiffel.com
SUMMARY:Journée de l’arbre
DESCRIPTION:
URL:https://gsgustaveeiffel.com/event/journee-de-larbre/
LOCATION:Groupe scolaire Gustave Eiffel\, Avenue Ain Mariem.\, Bizerte\, 7000\, Tunisie
ATTACH;FMTTYPE=image/jpeg:https://gsgustaveeiffel.com/wp-content/uploads/2020/11/Les-collegiens-celebrent-la-fete-de-larbre-au-college-Gustave-Eiffel-Bizerte-1.jpg
ORGANIZER;CN="Groupe%20Scolaire%20Gustave%20Eiffel":MAILTO:contact@gsgustaveeiffel.com
END:VEVENT
BEGIN:VEVENT
DTSTART;TZID=UTC:20211129T080000
DTEND;TZID=UTC:20211204T170000
DTSTAMP:20260422T032032
CREATED:20210917T131655Z
LAST-MODIFIED:20210917T132949Z
UID:7328-1638172800-1638637200@gsgustaveeiffel.com
SUMMARY:Semaine des lycées français du monde 2021
DESCRIPTION:
URL:https://gsgustaveeiffel.com/event/semaine-des-lycees-francais-du-monde-2021/
LOCATION:Groupe scolaire Gustave Eiffel\, Avenue Ain Mariem.\, Bizerte\, 7000\, Tunisie
ATTACH;FMTTYPE=image/jpeg:https://gsgustaveeiffel.com/wp-content/uploads/2020/11/slider-SLF-2020-Gustave-Eiffel-Bizerte.jpg
END:VEVENT
END:VCALENDAR