BEGIN:VCALENDAR
VERSION:2.0
PRODID:-//Groupe Scolaire Gustave Eiffel - ECPv5.12.2//NONSGML v1.0//EN
CALSCALE:GREGORIAN
METHOD:PUBLISH
X-WR-CALNAME:Groupe Scolaire Gustave Eiffel
X-ORIGINAL-URL:https://gsgustaveeiffel.com
X-WR-CALDESC:évènements pour Groupe Scolaire Gustave Eiffel
REFRESH-INTERVAL;VALUE=DURATION:PT1H
X-Robots-Tag:noindex
X-PUBLISHED-TTL:PT1H
BEGIN:VTIMEZONE
TZID:UTC
BEGIN:STANDARD
TZOFFSETFROM:+0000
TZOFFSETTO:+0000
TZNAME:UTC
DTSTART:20210101T000000
END:STANDARD
END:VTIMEZONE
BEGIN:VEVENT
DTSTART;TZID=UTC:20210303T140000
DTEND;TZID=UTC:20210303T170000
DTSTAMP:20260424T130800
CREATED:20210301T154211Z
LAST-MODIFIED:20210301T154527Z
UID:7058-1614780000-1614790800@gsgustaveeiffel.com
SUMMARY:Rôle et intérêts des aires marines et côtières protégées\, cas de la Galite
DESCRIPTION:
URL:https://gsgustaveeiffel.com/event/role-et-interets-des-aires-marines-et-cotieres-protegees-cas-de-la-galite/
LOCATION:Groupe scolaire Gustave Eiffel\, Avenue Ain Mariem.\, Bizerte\, 7000\, Tunisie
ATTACH;FMTTYPE=image/jpeg:https://gsgustaveeiffel.com/wp-content/uploads/2021/03/affiche-finale.jpg
ORGANIZER;CN="Groupe%20Scolaire%20Gustave%20Eiffel":MAILTO:contact@gsgustaveeiffel.com
END:VEVENT
BEGIN:VEVENT
DTSTART;TZID=UTC:20210319T080000
DTEND;TZID=UTC:20210319T170000
DTSTAMP:20260424T130800
CREATED:20210318T150657Z
LAST-MODIFIED:20210318T150657Z
UID:7194-1616140800-1616173200@gsgustaveeiffel.com
SUMMARY:Journée de l'habit traditionnel
DESCRIPTION:
URL:https://gsgustaveeiffel.com/event/journee-de-lhabit-traditionnel/
LOCATION:Groupe scolaire Gustave Eiffel\, Avenue Ain Mariem.\, Bizerte\, 7000\, Tunisie
ATTACH;FMTTYPE=image/png:https://gsgustaveeiffel.com/wp-content/uploads/2021/03/25247-Converti-016.png
ORGANIZER;CN="Groupe%20Scolaire%20Gustave%20Eiffel":MAILTO:contact@gsgustaveeiffel.com
END:VEVENT
END:VCALENDAR