BEGIN:VCALENDAR
VERSION:2.0
PRODID:-//Groupe Scolaire Gustave Eiffel - ECPv5.12.2//NONSGML v1.0//EN
CALSCALE:GREGORIAN
METHOD:PUBLISH
X-WR-CALNAME:Groupe Scolaire Gustave Eiffel
X-ORIGINAL-URL:https://gsgustaveeiffel.com
X-WR-CALDESC:évènements pour Groupe Scolaire Gustave Eiffel
REFRESH-INTERVAL;VALUE=DURATION:PT1H
X-Robots-Tag:noindex
X-PUBLISHED-TTL:PT1H
BEGIN:VTIMEZONE
TZID:UTC
BEGIN:STANDARD
TZOFFSETFROM:+0000
TZOFFSETTO:+0000
TZNAME:UTC
DTSTART:20200101T000000
END:STANDARD
END:VTIMEZONE
BEGIN:VEVENT
DTSTART;TZID=UTC:20200706T080000
DTEND;TZID=UTC:20200706T120000
DTSTAMP:20260425T001253
CREATED:20200625T105533Z
LAST-MODIFIED:20210121T064726Z
UID:5986-1594022400-1594036800@gsgustaveeiffel.com
SUMMARY:Tests pour l'inscription au collège
DESCRIPTION:Nous vous informons que les inscriptions sont ouvertes et que les tests d’admission (Français et Mathématiques) seront organisés le lundi 6 juillet 2020 au sein de l’établissement.\nCordialement .
URL:https://gsgustaveeiffel.com/event/tests-pour-linscription-au-college/
LOCATION:Groupe scolaire Gustave Eiffel\, Avenue Ain Mariem.\, Bizerte\, 7000\, Tunisie
ATTACH;FMTTYPE=image/jpeg:https://gsgustaveeiffel.com/wp-content/uploads/2020/12/Groupe_Scolaire_Gustave_Eiffel_Bizerte.jpg
ORGANIZER;CN="Groupe%20Scolaire%20Gustave%20Eiffel":MAILTO:contact@gsgustaveeiffel.com
END:VEVENT
END:VCALENDAR