BEGIN:VCALENDAR
VERSION:2.0
PRODID:-//Groupe Scolaire Gustave Eiffel - ECPv5.12.2//NONSGML v1.0//EN
CALSCALE:GREGORIAN
METHOD:PUBLISH
X-WR-CALNAME:Groupe Scolaire Gustave Eiffel
X-ORIGINAL-URL:https://gsgustaveeiffel.com
X-WR-CALDESC:évènements pour Groupe Scolaire Gustave Eiffel
REFRESH-INTERVAL;VALUE=DURATION:PT1H
X-Robots-Tag:noindex
X-PUBLISHED-TTL:PT1H
BEGIN:VTIMEZONE
TZID:Europe/Paris
BEGIN:DAYLIGHT
TZOFFSETFROM:+0100
TZOFFSETTO:+0200
TZNAME:CEST
DTSTART:20230326T010000
END:DAYLIGHT
BEGIN:STANDARD
TZOFFSETFROM:+0200
TZOFFSETTO:+0100
TZNAME:CET
DTSTART:20231029T010000
END:STANDARD
END:VTIMEZONE
BEGIN:VEVENT
DTSTART;TZID=Europe/Paris:20231013T150000
DTEND;TZID=Europe/Paris:20231013T170000
DTSTAMP:20260420T193159
CREATED:20231007T081931Z
LAST-MODIFIED:20231229T082153Z
UID:9315-1697209200-1697216400@gsgustaveeiffel.com
SUMMARY:Rencontre avec Selma Kassar - ORIENTATION
DESCRIPTION:Le Vendredi 13 octobre 2023 de 15h à 17h\, Madame Selma Kassar\, conseillère en orientation\, met au service de nos lycéens toute son expérience et ses larges connaissances des différents parcours de formation en France\, en Tunisie et à l’International.\nEn faveur d’une orientation choisie\, et non subie\, le GSGE s’entoure des meilleurs professionnels pour aider les élèves à déployer leur plein potentiel et à atteindre leurs propres objectifs.\nA 17h\, les échanges se poursuivront avec les parents des Terminales pour les éclairer sur les modalités de Parcoursup et autres voies de formation.
URL:https://gsgustaveeiffel.com/event/rencontre-avec-selma-kassar-orientation/
LOCATION:Groupe scolaire Gustave Eiffel\, Avenue Ain Mariem.\, Bizerte\, 7000\, Tunisie
ATTACH;FMTTYPE=image/jpeg:https://gsgustaveeiffel.com/wp-content/uploads/2023/12/rencontre-avec-Selma-Kasar-Orientation.jpg
ORGANIZER;CN="Groupe%20Scolaire%20Gustave%20Eiffel":MAILTO:contact@gsgustaveeiffel.com
END:VEVENT
END:VCALENDAR