BEGIN:VCALENDAR
VERSION:2.0
PRODID:-//Groupe Scolaire Gustave Eiffel - ECPv5.12.2//NONSGML v1.0//EN
CALSCALE:GREGORIAN
METHOD:PUBLISH
X-WR-CALNAME:Groupe Scolaire Gustave Eiffel
X-ORIGINAL-URL:https://gsgustaveeiffel.com
X-WR-CALDESC:évènements pour Groupe Scolaire Gustave Eiffel
REFRESH-INTERVAL;VALUE=DURATION:PT1H
X-Robots-Tag:noindex
X-PUBLISHED-TTL:PT1H
BEGIN:VTIMEZONE
TZID:Europe/Paris
BEGIN:DAYLIGHT
TZOFFSETFROM:+0100
TZOFFSETTO:+0200
TZNAME:CEST
DTSTART:20230326T010000
END:DAYLIGHT
BEGIN:STANDARD
TZOFFSETFROM:+0200
TZOFFSETTO:+0100
TZNAME:CET
DTSTART:20231029T010000
END:STANDARD
END:VTIMEZONE
BEGIN:VEVENT
DTSTART;VALUE=DATE:20230317
DTEND;VALUE=DATE:20230318
DTSTAMP:20260421T054231
CREATED:20230406T132131Z
LAST-MODIFIED:20230406T132131Z
UID:8392-1679011200-1679097599@gsgustaveeiffel.com
SUMMARY:Journée « Haut Chic – Bas Choc » au GSGE
DESCRIPTION:A l’initiative du CVC et du CVL\, tous les élèves du groupe scolaire Gustave Eiffel\, des classes de CM à la classe de première ont été invités à participer à la journée « Haut Chic – Bas Choc » organisée le vendredi 17 mars. Pour cette « première »\, la participation a été assez importante et tous ceux qui avaient répondu à la consigne ont pu exhiber leur tenue en défilant sur le tapis rouge déroulé à cet effet durant la pause méridienne. \nMerci aux élèves du CVC/CVL pour cette initiative.
URL:https://gsgustaveeiffel.com/event/journee-haut-chic-bas-choc-au-gsge/
LOCATION:Groupe scolaire Gustave Eiffel\, Avenue Ain Mariem.\, Bizerte\, 7000\, Tunisie
ATTACH;FMTTYPE=image/jpeg:https://gsgustaveeiffel.com/wp-content/uploads/2023/03/slider-journee_haut-chic_Bas-choc-AEFE-GSGE.jpg
ORGANIZER;CN="Groupe%20Scolaire%20Gustave%20Eiffel":MAILTO:contact@gsgustaveeiffel.com
END:VEVENT
END:VCALENDAR