BEGIN:VCALENDAR
VERSION:2.0
PRODID:-//Groupe Scolaire Gustave Eiffel - ECPv5.12.2//NONSGML v1.0//EN
CALSCALE:GREGORIAN
METHOD:PUBLISH
X-WR-CALNAME:Groupe Scolaire Gustave Eiffel
X-ORIGINAL-URL:https://gsgustaveeiffel.com
X-WR-CALDESC:évènements pour Groupe Scolaire Gustave Eiffel
REFRESH-INTERVAL;VALUE=DURATION:PT1H
X-Robots-Tag:noindex
X-PUBLISHED-TTL:PT1H
BEGIN:VTIMEZONE
TZID:UTC
BEGIN:STANDARD
TZOFFSETFROM:+0000
TZOFFSETTO:+0000
TZNAME:UTC
DTSTART:20210101T000000
END:STANDARD
END:VTIMEZONE
BEGIN:VEVENT
DTSTART;TZID=UTC:20211011T080000
DTEND;TZID=UTC:20211017T170000
DTSTAMP:20260422T062052
CREATED:20210917T132454Z
LAST-MODIFIED:20210917T132454Z
UID:7330-1633939200-1634490000@gsgustaveeiffel.com
SUMMARY:La Semaine du goût  2021
DESCRIPTION:La 32ème édition de la Semaine du Goût aura lieu du 11 au 17 octobre 2021 !
URL:https://gsgustaveeiffel.com/event/la-semaine-du-gout-2021/
LOCATION:Groupe scolaire Gustave Eiffel\, Avenue Ain Mariem.\, Bizerte\, 7000\, Tunisie
ATTACH;FMTTYPE=image/jpeg:https://gsgustaveeiffel.com/wp-content/uploads/2021/09/la-semaine-du-gout-GSGE.jpg
ORGANIZER;CN="legout.com":MAILTO:contact@legout.com
END:VEVENT
END:VCALENDAR