BEGIN:VCALENDAR
VERSION:2.0
PRODID:-//Groupe Scolaire Gustave Eiffel - ECPv5.12.2//NONSGML v1.0//EN
CALSCALE:GREGORIAN
METHOD:PUBLISH
X-WR-CALNAME:Groupe Scolaire Gustave Eiffel
X-ORIGINAL-URL:https://gsgustaveeiffel.com
X-WR-CALDESC:évènements pour Groupe Scolaire Gustave Eiffel
REFRESH-INTERVAL;VALUE=DURATION:PT1H
X-Robots-Tag:noindex
X-PUBLISHED-TTL:PT1H
BEGIN:VTIMEZONE
TZID:UTC
BEGIN:STANDARD
TZOFFSETFROM:+0000
TZOFFSETTO:+0000
TZNAME:UTC
DTSTART:20200101T000000
END:STANDARD
END:VTIMEZONE
BEGIN:VEVENT
DTSTART;TZID=UTC:20201109T083000
DTEND;TZID=UTC:20201109T170000
DTSTAMP:20260424T201947
CREATED:20201109T063951Z
LAST-MODIFIED:20201209T104926Z
UID:6745-1604910600-1604941200@gsgustaveeiffel.com
SUMMARY:La fête de l'arbre
DESCRIPTION:Sous un beau soleil du mois de novembre et dans le cadre « Parcours citoyen »\, le Groupe Scolaire Gustave Eiffel\, a célébré le lundi 9 novembre 2020 la fête de l’arbre  dont l’objectif est de sensibiliser les citoyens et particulièrement nos jeunes élèves à l’importance de l’arbre et son utilité pour notre environnement.
URL:https://gsgustaveeiffel.com/event/la-fete-de-larbre/
LOCATION:Groupe scolaire Gustave Eiffel\, Avenue Ain Mariem.\, Bizerte\, 7000\, Tunisie
ATTACH;FMTTYPE=image/jpeg:https://gsgustaveeiffel.com/wp-content/uploads/2020/11/Les-collegiens-celebrent-la-fete-de-larbre-au-college-Gustave-Eiffel-Bizerte-1.jpg
ORGANIZER;CN="Groupe%20Scolaire%20Gustave%20Eiffel":MAILTO:contact@gsgustaveeiffel.com
END:VEVENT
END:VCALENDAR