BEGIN:VCALENDAR
VERSION:2.0
PRODID:-//Groupe Scolaire Gustave Eiffel - ECPv5.12.2//NONSGML v1.0//EN
CALSCALE:GREGORIAN
METHOD:PUBLISH
X-WR-CALNAME:Groupe Scolaire Gustave Eiffel
X-ORIGINAL-URL:https://gsgustaveeiffel.com
X-WR-CALDESC:évènements pour Groupe Scolaire Gustave Eiffel
REFRESH-INTERVAL;VALUE=DURATION:PT1H
X-Robots-Tag:noindex
X-PUBLISHED-TTL:PT1H
BEGIN:VTIMEZONE
TZID:UTC
BEGIN:STANDARD
TZOFFSETFROM:+0000
TZOFFSETTO:+0000
TZNAME:UTC
DTSTART:20200101T000000
END:STANDARD
END:VTIMEZONE
BEGIN:VEVENT
DTSTART;TZID=UTC:20201005T080000
DTEND;TZID=UTC:20201012T233000
DTSTAMP:20260424T214538
CREATED:20201001T110220Z
LAST-MODIFIED:20201209T105116Z
UID:5993-1601884800-1602545400@gsgustaveeiffel.com
SUMMARY:Semaine de la démocratie
DESCRIPTION:Élection des délégués de classe.\nÉlection des délégués au conseil de vie collégienne (CVC).\nÉlection des représentants de parents.\nÉlection des représentants du personnel administratif et enseignant.
URL:https://gsgustaveeiffel.com/event/semaine-de-la-democratie/
LOCATION:Groupe scolaire Gustave Eiffel\, Avenue Ain Mariem.\, Bizerte\, 7000\, Tunisie
ATTACH;FMTTYPE=image/png:https://gsgustaveeiffel.com/wp-content/uploads/2020/10/IMG_20201006_120400.png
ORGANIZER;CN="Groupe%20Scolaire%20Gustave%20Eiffel":MAILTO:contact@gsgustaveeiffel.com
END:VEVENT
END:VCALENDAR